BEGIN:VCALENDAR
VERSION:2.0
PRODID:-//kyohatsu//JP
CALSCALE:GREGORIAN
BEGIN:VEVENT
DTSTART;VALUE=DATE:20260605
SUMMARY:星占巫女姫は兄弟王子に嫁入りする
DESCRIPTION:宮野　美嘉 実業之日本社
UID:9784408560212@kyohatsu.lb-product.com
END:VEVENT
END:VCALENDAR
