BEGIN:VCALENDAR
VERSION:2.0
PRODID:-//kyohatsu//JP
CALSCALE:GREGORIAN
BEGIN:VEVENT
DTSTART;VALUE=DATE:20260520
SUMMARY:ないなら書けばいいじゃない！
DESCRIPTION:宮田　愛萌 大和書房
UID:9784479394785@kyohatsu.lb-product.com
END:VEVENT
END:VCALENDAR
