BEGIN:VCALENDAR
VERSION:2.0
PRODID:-//kyohatsu//JP
CALSCALE:GREGORIAN
BEGIN:VEVENT
DTSTART;VALUE=DATE:20260528
SUMMARY:他者の声を聴く
DESCRIPTION:宮沢 剛 三一書房
UID:9784380260032@kyohatsu.lb-product.com
END:VEVENT
END:VCALENDAR
