BEGIN:VCALENDAR
VERSION:2.0
PRODID:-//kyohatsu//JP
CALSCALE:GREGORIAN
BEGIN:VEVENT
DTSTART;VALUE=DATE:20260527
SUMMARY:湾
DESCRIPTION:宮本 輝 新潮社
UID:9784103325314@kyohatsu.lb-product.com
END:VEVENT
END:VCALENDAR
