BEGIN:VCALENDAR
VERSION:2.0
PRODID:-//kyohatsu//JP
CALSCALE:GREGORIAN
BEGIN:VEVENT
DTSTART;VALUE=DATE:20260603
SUMMARY:ふたつの月に濡れる
DESCRIPTION:宮崎リン／若宮はずき／西村ニーナ 
UID:4571364925729@kyohatsu.lb-product.com
END:VEVENT
END:VCALENDAR
