BEGIN:VCALENDAR
VERSION:2.0
PRODID:-//kyohatsu//JP
CALSCALE:GREGORIAN
BEGIN:VEVENT
DTSTART;VALUE=DATE:20260520
SUMMARY:AI時代の情報術 - 情報はどこにあるか？ -
DESCRIPTION:宮崎 正弘 ワニプラス
UID:9784847076596@kyohatsu.lb-product.com
END:VEVENT
END:VCALENDAR
