BEGIN:VCALENDAR
VERSION:2.0
PRODID:-//kyohatsu//JP
CALSCALE:GREGORIAN
BEGIN:VEVENT
DTSTART;VALUE=DATE:20260610
SUMMARY:時を旅する
DESCRIPTION:宮城谷 昌光 文藝春秋
UID:9784167925239@kyohatsu.lb-product.com
END:VEVENT
END:VCALENDAR
