BEGIN:VCALENDAR
VERSION:2.0
PRODID:-//kyohatsu//JP
CALSCALE:GREGORIAN
BEGIN:VEVENT
DTSTART;VALUE=DATE:20260525
SUMMARY:讐演のアルアビュール（5）(完)
DESCRIPTION:宮原都 スクウェア・エニックス
UID:9784301005360@kyohatsu.lb-product.com
END:VEVENT
END:VCALENDAR
