BEGIN:VCALENDAR
VERSION:2.0
PRODID:-//kyohatsu//JP
CALSCALE:GREGORIAN
BEGIN:VEVENT
DTSTART;VALUE=DATE:20260529
SUMMARY:安野モヨコ選集 シュガシュガルーン（5）
DESCRIPTION:安野 モヨコ 小学館クリエイティブ
UID:9784778033767@kyohatsu.lb-product.com
END:VEVENT
END:VCALENDAR
