BEGIN:VCALENDAR
VERSION:2.0
PRODID:-//kyohatsu//JP
CALSCALE:GREGORIAN
BEGIN:VEVENT
DTSTART;VALUE=DATE:20260521
SUMMARY:銀嶺のかなた（三） みやびの楯
DESCRIPTION:安部 龍太郎 文藝春秋
UID:9784163921020@kyohatsu.lb-product.com
END:VEVENT
BEGIN:VEVENT
DTSTART;VALUE=DATE:20260525
SUMMARY:ふりさけ見れば　上
DESCRIPTION:安部　龍太郎 KADOKAWA
UID:9784041154618@kyohatsu.lb-product.com
END:VEVENT
BEGIN:VEVENT
DTSTART;VALUE=DATE:20260525
SUMMARY:ふりさけ見れば　下
DESCRIPTION:安部　龍太郎 KADOKAWA
UID:9784041154625@kyohatsu.lb-product.com
END:VEVENT
END:VCALENDAR
