BEGIN:VCALENDAR
VERSION:2.0
PRODID:-//kyohatsu//JP
CALSCALE:GREGORIAN
BEGIN:VEVENT
DTSTART;VALUE=DATE:20260630
SUMMARY:ブレイクニューワールド 4
DESCRIPTION:宇津江広祐 Cygames
UID:9784911567777@kyohatsu.lb-product.com
END:VEVENT
END:VCALENDAR
