BEGIN:VCALENDAR
VERSION:2.0
PRODID:-//kyohatsu//JP
CALSCALE:GREGORIAN
BEGIN:VEVENT
DTSTART;VALUE=DATE:20260528
SUMMARY:猫と罰
DESCRIPTION:宇津木 健太郎 新潮社
UID:9784101068619@kyohatsu.lb-product.com
END:VEVENT
END:VCALENDAR
