BEGIN:VCALENDAR
VERSION:2.0
PRODID:-//kyohatsu//JP
CALSCALE:GREGORIAN
BEGIN:VEVENT
DTSTART;VALUE=DATE:20260507
SUMMARY:憂き世店　松前藩士物語　新装版
DESCRIPTION:宇江佐真理 朝日新聞出版
UID:9784022652423@kyohatsu.lb-product.com
END:VEVENT
END:VCALENDAR
