BEGIN:VCALENDAR
VERSION:2.0
PRODID:-//kyohatsu//JP
CALSCALE:GREGORIAN
BEGIN:VEVENT
DTSTART;VALUE=DATE:20260521
SUMMARY:いつか君が運命の人 1
DESCRIPTION:宇山 佳佑 集英社
UID:9784087448900@kyohatsu.lb-product.com
END:VEVENT
BEGIN:VEVENT
DTSTART;VALUE=DATE:20260521
SUMMARY:いつか君が運命の人 2
DESCRIPTION:宇山 佳佑 集英社
UID:9784087448917@kyohatsu.lb-product.com
END:VEVENT
END:VCALENDAR
