BEGIN:VCALENDAR
VERSION:2.0
PRODID:-//kyohatsu//JP
CALSCALE:GREGORIAN
BEGIN:VEVENT
DTSTART;VALUE=DATE:20260520
SUMMARY:クロロ宇宙探検隊（2）
DESCRIPTION:宇宙　礼人 ポプラ社
UID:9784591180198@kyohatsu.lb-product.com
END:VEVENT
END:VCALENDAR
