BEGIN:VCALENDAR
VERSION:2.0
PRODID:-//kyohatsu//JP
CALSCALE:GREGORIAN
BEGIN:VEVENT
DTSTART;VALUE=DATE:20260624
SUMMARY:【楽天ブックス限定先着特典】パッパパラダイス【完全生産限定アナログ盤】(オリジナルマーカー/パープル（楽天ブックス ver.）)
DESCRIPTION:宇多田ヒカル (株)ソニー・ミュージックレーベルズ
UID:4547366811827@kyohatsu.lb-product.com
END:VEVENT
END:VCALENDAR
