BEGIN:VCALENDAR
VERSION:2.0
PRODID:-//kyohatsu//JP
CALSCALE:GREGORIAN
BEGIN:VEVENT
DTSTART;VALUE=DATE:20260604
SUMMARY:アスラの沙汰 4
DESCRIPTION:宇乃花 空樹 集英社
UID:9784088850542@kyohatsu.lb-product.com
END:VEVENT
END:VCALENDAR
