BEGIN:VCALENDAR
VERSION:2.0
PRODID:-//kyohatsu//JP
CALSCALE:GREGORIAN
BEGIN:VEVENT
DTSTART;VALUE=DATE:20260501
SUMMARY:アナベル
DESCRIPTION:子田かおり KISSA BOOKS
UID:9784910943039@kyohatsu.lb-product.com
END:VEVENT
END:VCALENDAR
