BEGIN:VCALENDAR
VERSION:2.0
PRODID:-//kyohatsu//JP
CALSCALE:GREGORIAN
BEGIN:VEVENT
DTSTART;VALUE=DATE:20260609
SUMMARY:KAMUDO 風の神門（2）
DESCRIPTION:姫川 明輝 小学館
UID:9784098546350@kyohatsu.lb-product.com
END:VEVENT
END:VCALENDAR
