BEGIN:VCALENDAR
VERSION:2.0
PRODID:-//kyohatsu//JP
CALSCALE:GREGORIAN
BEGIN:VEVENT
DTSTART;VALUE=DATE:20260722
SUMMARY:【楽天ブックス限定先着特典】タイトル未定 (奥華子20thAnivアルバム初回盤 CD＋Blu-ray)(A4クリアファイル)
DESCRIPTION:奥華子 (株)ポニーキャニオン
UID:2100014949123@kyohatsu.lb-product.com
END:VEVENT
BEGIN:VEVENT
DTSTART;VALUE=DATE:20260722
SUMMARY:タイトル未定 (奥華子20thAnivアルバム初回盤 CD＋Blu-ray)
DESCRIPTION:奥華子 (株)ポニーキャニオン
UID:4524135313096@kyohatsu.lb-product.com
END:VEVENT
BEGIN:VEVENT
DTSTART;VALUE=DATE:20260722
SUMMARY:【楽天ブックス限定先着特典】タイトル未定 (奥華子20thAnivアルバム通常盤)(A4クリアファイル)
DESCRIPTION:奥華子 (株)ポニーキャニオン
UID:4524135313102@kyohatsu.lb-product.com
END:VEVENT
END:VCALENDAR
