BEGIN:VCALENDAR
VERSION:2.0
PRODID:-//kyohatsu//JP
CALSCALE:GREGORIAN
BEGIN:VEVENT
DTSTART;VALUE=DATE:20260525
SUMMARY:ひよりやま食堂
DESCRIPTION:奥乃　桜子 KADOKAWA
UID:9784041172414@kyohatsu.lb-product.com
END:VEVENT
END:VCALENDAR
