BEGIN:VCALENDAR
VERSION:2.0
PRODID:-//kyohatsu//JP
CALSCALE:GREGORIAN
BEGIN:VEVENT
DTSTART;VALUE=DATE:20260529
SUMMARY:還暦姫（1）
DESCRIPTION:奥 浩哉 小学館
UID:9784098640201@kyohatsu.lb-product.com
END:VEVENT
END:VCALENDAR
