BEGIN:VCALENDAR
VERSION:2.0
PRODID:-//kyohatsu//JP
CALSCALE:GREGORIAN
BEGIN:VEVENT
DTSTART;VALUE=DATE:20260522
SUMMARY:猛き朝日
DESCRIPTION:天野純希 中央公論新社
UID:9784122077874@kyohatsu.lb-product.com
END:VEVENT
END:VCALENDAR
