BEGIN:VCALENDAR
VERSION:2.0
PRODID:-//kyohatsu//JP
CALSCALE:GREGORIAN
BEGIN:VEVENT
DTSTART;VALUE=DATE:20260501
SUMMARY:日本を出よう！-スペインより愛を込めてー
DESCRIPTION:天野修治 文芸社
UID:9784286275543@kyohatsu.lb-product.com
END:VEVENT
END:VCALENDAR
