BEGIN:VCALENDAR
VERSION:2.0
PRODID:-//kyohatsu//JP
CALSCALE:GREGORIAN
BEGIN:VEVENT
DTSTART;VALUE=DATE:20260601
SUMMARY:むこうぶち Vol.3 欲望の麻雀卓
DESCRIPTION:天獅子悦也 竹書房
UID:9784801977723@kyohatsu.lb-product.com
END:VEVENT
END:VCALENDAR
