BEGIN:VCALENDAR
VERSION:2.0
PRODID:-//kyohatsu//JP
CALSCALE:GREGORIAN
BEGIN:VEVENT
DTSTART;VALUE=DATE:20260610
SUMMARY:東京おしゃれ魔女ありす
DESCRIPTION:天川 栄人 小学館
UID:9784092893467@kyohatsu.lb-product.com
END:VEVENT
END:VCALENDAR
