BEGIN:VCALENDAR
VERSION:2.0
PRODID:-//kyohatsu//JP
CALSCALE:GREGORIAN
BEGIN:VEVENT
DTSTART;VALUE=DATE:20260508
SUMMARY:体験的日韓比較儒教
DESCRIPTION:大野 敏明 展転社
UID:9784886566072@kyohatsu.lb-product.com
END:VEVENT
END:VCALENDAR
