BEGIN:VCALENDAR
VERSION:2.0
PRODID:-//kyohatsu//JP
CALSCALE:GREGORIAN
BEGIN:VEVENT
DTSTART;VALUE=DATE:20260527
SUMMARY:今が★★★青春
DESCRIPTION:大輝けん LIGHT BRAIN MUSIC
UID:4582500639677@kyohatsu.lb-product.com
END:VEVENT
END:VCALENDAR
