BEGIN:VCALENDAR
VERSION:2.0
PRODID:-//kyohatsu//JP
CALSCALE:GREGORIAN
BEGIN:VEVENT
DTSTART;VALUE=DATE:20260529
SUMMARY:テンガ転生　3
DESCRIPTION:大見 武士 少年画報社
UID:9784785982089@kyohatsu.lb-product.com
END:VEVENT
END:VCALENDAR
