BEGIN:VCALENDAR
VERSION:2.0
PRODID:-//kyohatsu//JP
CALSCALE:GREGORIAN
BEGIN:VEVENT
DTSTART;VALUE=DATE:20260603
SUMMARY:あまやどり
DESCRIPTION:大石さちよ 大日本図書
UID:9784477035802@kyohatsu.lb-product.com
END:VEVENT
END:VCALENDAR
