BEGIN:VCALENDAR
VERSION:2.0
PRODID:-//kyohatsu//JP
CALSCALE:GREGORIAN
BEGIN:VEVENT
DTSTART;VALUE=DATE:20260520
SUMMARY:よだれ観覧車
DESCRIPTION:大石　恵美 白水社
UID:9784560025994@kyohatsu.lb-product.com
END:VEVENT
END:VCALENDAR
