BEGIN:VCALENDAR
VERSION:2.0
PRODID:-//kyohatsu//JP
CALSCALE:GREGORIAN
BEGIN:VEVENT
DTSTART;VALUE=DATE:20260605
SUMMARY:ねずみの初恋（10）
DESCRIPTION:大瀬戸 陸 講談社
UID:9784065438497@kyohatsu.lb-product.com
END:VEVENT
END:VCALENDAR
