BEGIN:VCALENDAR
VERSION:2.0
PRODID:-//kyohatsu//JP
CALSCALE:GREGORIAN
BEGIN:VEVENT
DTSTART;VALUE=DATE:20260605
SUMMARY:その謎を解いてはいけない　黒歴史について語るときに我々の語ること
DESCRIPTION:大滝　瓶太 実業之日本社
UID:9784408560144@kyohatsu.lb-product.com
END:VEVENT
BEGIN:VEVENT
DTSTART;VALUE=DATE:20260610
SUMMARY:口笛吹きと音楽の犬
DESCRIPTION:大滝 瓶太 小学館
UID:9784093867924@kyohatsu.lb-product.com
END:VEVENT
END:VCALENDAR
