BEGIN:VCALENDAR
VERSION:2.0
PRODID:-//kyohatsu//JP
CALSCALE:GREGORIAN
BEGIN:VEVENT
DTSTART;VALUE=DATE:20260812
SUMMARY:【楽天ブックス限定先着特典】タイトル未定(A4クリアファイル - C ver.)
DESCRIPTION:大泉 洋 (株)A-Sketch
UID:4988031872994@kyohatsu.lb-product.com
END:VEVENT
BEGIN:VEVENT
DTSTART;VALUE=DATE:20260812
SUMMARY:タイトル未定 (初回限定盤 CD＋Blu-ray)
DESCRIPTION:大泉 洋 (株)A-Sketch
UID:4988031873182@kyohatsu.lb-product.com
END:VEVENT
END:VCALENDAR
