BEGIN:VCALENDAR
VERSION:2.0
PRODID:-//kyohatsu//JP
CALSCALE:GREGORIAN
BEGIN:VEVENT
DTSTART;VALUE=DATE:20260701
SUMMARY:GOLDEN☆BEST / 大沢誉志幸[I.D Y 2]Y COOOL BEST COLLECTION(水の中のナイフ)
DESCRIPTION:大沢誉志幸 (株)ソニー・ミュージックダイレクト
UID:4547366820058@kyohatsu.lb-product.com
END:VEVENT
END:VCALENDAR
