BEGIN:VCALENDAR
VERSION:2.0
PRODID:-//kyohatsu//JP
CALSCALE:GREGORIAN
BEGIN:VEVENT
DTSTART;VALUE=DATE:20260701
SUMMARY:【楽天ブックス限定先着特典】蓮ノ空女学院スクールアイドルクラブ 103rd Graduation Album 〜Full Bloom Memories〜 Osawa Rurino【通常盤】(A4クリアファイル)
DESCRIPTION:大沢瑠璃乃(CV.菅叶和) (株)バンダイナムコミュージックライブ
UID:4540774191802@kyohatsu.lb-product.com
END:VEVENT
BEGIN:VEVENT
DTSTART;VALUE=DATE:20260701
SUMMARY:蓮ノ空女学院スクールアイドルクラブ 103rd Graduation Album 〜Full Bloom Memories〜 Osawa Rurino【初回限定盤】
DESCRIPTION:大沢瑠璃乃(CV.菅叶和) (株)バンダイナムコミュージックライブ
UID:4540774391806@kyohatsu.lb-product.com
END:VEVENT
BEGIN:VEVENT
DTSTART;VALUE=DATE:20260701
SUMMARY:【楽天ブックス限定先着特典】蓮ノ空女学院スクールアイドルクラブ 103rd Graduation Album 〜Full Bloom Memories〜 Osawa Rurino【初回限定盤】(A4クリアファイル)
DESCRIPTION:大沢瑠璃乃(CV.菅叶和) (株)バンダイナムコミュージックライブ
UID:2100014949185@kyohatsu.lb-product.com
END:VEVENT
END:VCALENDAR
