BEGIN:VCALENDAR
VERSION:2.0
PRODID:-//kyohatsu//JP
CALSCALE:GREGORIAN
BEGIN:VEVENT
DTSTART;VALUE=DATE:20260520
SUMMARY:柩の狩人
DESCRIPTION:大沢 在昌 幻冬舎
UID:9784344045835@kyohatsu.lb-product.com
END:VEVENT
END:VCALENDAR
