BEGIN:VCALENDAR
VERSION:2.0
PRODID:-//kyohatsu//JP
CALSCALE:GREGORIAN
BEGIN:VEVENT
DTSTART;VALUE=DATE:20260612
SUMMARY:日本詩歌の特質
DESCRIPTION:大岡 信 筑摩書房
UID:9784480513793@kyohatsu.lb-product.com
END:VEVENT
END:VCALENDAR
