BEGIN:VCALENDAR
VERSION:2.0
PRODID:-//kyohatsu//JP
CALSCALE:GREGORIAN
BEGIN:VEVENT
DTSTART;VALUE=DATE:20260512
SUMMARY:トンデモ学説をぶった斬ったら比較言語学の入門書になった件
DESCRIPTION:大山祐亮 晶文社
UID:9784794980557@kyohatsu.lb-product.com
END:VEVENT
END:VCALENDAR
