BEGIN:VCALENDAR
VERSION:2.0
PRODID:-//kyohatsu//JP
CALSCALE:GREGORIAN
BEGIN:VEVENT
DTSTART;VALUE=DATE:20260530
SUMMARY:沖縄文学の扉を開く
DESCRIPTION:大城貞俊 インパクト出版会
UID:9784755403675@kyohatsu.lb-product.com
END:VEVENT
END:VCALENDAR
