BEGIN:VCALENDAR
VERSION:2.0
PRODID:-//kyohatsu//JP
CALSCALE:GREGORIAN
BEGIN:VEVENT
DTSTART;VALUE=DATE:20260527
SUMMARY:お互い様です人生模様
DESCRIPTION:大和たすく Crescendo Music
UID:4582500639837@kyohatsu.lb-product.com
END:VEVENT
END:VCALENDAR
