BEGIN:VCALENDAR
VERSION:2.0
PRODID:-//kyohatsu//JP
CALSCALE:GREGORIAN
BEGIN:VEVENT
DTSTART;VALUE=DATE:20260525
SUMMARY:第二次世界大戦 双発戦闘機
DESCRIPTION:大内建二 潮書房光人新社
UID:9784769834434@kyohatsu.lb-product.com
END:VEVENT
END:VCALENDAR
