BEGIN:VCALENDAR
VERSION:2.0
PRODID:-//kyohatsu//JP
CALSCALE:GREGORIAN
BEGIN:VEVENT
DTSTART;VALUE=DATE:20260610
SUMMARY:佼成ウインドLIVE〜2026年度 全日本吹奏楽コンクール課題曲〜
DESCRIPTION:大井剛史&東京佼成ウインドオーケストラ 日本コロムビア(株)
UID:4549767374437@kyohatsu.lb-product.com
END:VEVENT
END:VCALENDAR
