BEGIN:VCALENDAR
VERSION:2.0
PRODID:-//kyohatsu//JP
CALSCALE:GREGORIAN
BEGIN:VEVENT
DTSTART;VALUE=DATE:20260623
SUMMARY:訳あり秋くんの恋が聴こえる5
DESCRIPTION:大井　紺 KADOKAWA
UID:9784046602343@kyohatsu.lb-product.com
END:VEVENT
END:VCALENDAR
