BEGIN:VCALENDAR
VERSION:2.0
PRODID:-//kyohatsu//JP
CALSCALE:GREGORIAN
BEGIN:VEVENT
DTSTART;VALUE=DATE:20260515
SUMMARY:The Stylist
DESCRIPTION:大久保 篤志 小学館
UID:9784093898508@kyohatsu.lb-product.com
END:VEVENT
END:VCALENDAR
