BEGIN:VCALENDAR
VERSION:2.0
PRODID:-//kyohatsu//JP
CALSCALE:GREGORIAN
BEGIN:VEVENT
DTSTART;VALUE=DATE:20260630
SUMMARY:社畜ちゃんと生活改善系ショタ悪魔 3
DESCRIPTION:夢鳥八重 Cygames
UID:9784911567753@kyohatsu.lb-product.com
END:VEVENT
END:VCALENDAR
