BEGIN:VCALENDAR
VERSION:2.0
PRODID:-//kyohatsu//JP
CALSCALE:GREGORIAN
BEGIN:VEVENT
DTSTART;VALUE=DATE:20260519
SUMMARY:孤島の狐は尽くしたがり -眷愛隷属ー
DESCRIPTION:夜光 花 リブレ
UID:9784799777855@kyohatsu.lb-product.com
END:VEVENT
END:VCALENDAR
