BEGIN:VCALENDAR
VERSION:2.0
PRODID:-//kyohatsu//JP
CALSCALE:GREGORIAN
BEGIN:VEVENT
DTSTART;VALUE=DATE:20260513
SUMMARY:改訂版 90歳の誕生日をめざして
DESCRIPTION:多田 稔 鳥影社
UID:9784867822036@kyohatsu.lb-product.com
END:VEVENT
END:VCALENDAR
