BEGIN:VCALENDAR
VERSION:2.0
PRODID:-//kyohatsu//JP
CALSCALE:GREGORIAN
BEGIN:VEVENT
DTSTART;VALUE=DATE:20260623
SUMMARY:SとX　セラピスト霜鳥壱人の診察室（1）
DESCRIPTION:多田 基生 講談社
UID:9784065435960@kyohatsu.lb-product.com
END:VEVENT
END:VCALENDAR
