BEGIN:VCALENDAR
VERSION:2.0
PRODID:-//kyohatsu//JP
CALSCALE:GREGORIAN
BEGIN:VEVENT
DTSTART;VALUE=DATE:20260604
SUMMARY:茜部先生は照れ知らず 5
DESCRIPTION:多治見 尚哉 集英社
UID:9784088851167@kyohatsu.lb-product.com
END:VEVENT
END:VCALENDAR
